BEGIN:VCALENDAR
VERSION:2.0
PRODID:-//OmniMagnetCalendar//EN
BEGIN:VEVENT
DTSTAMP:20190625T195740Z
STATUS:CONFIRMED
UID:hcsanfrancisco.clubs.harvard.edu1057
DTSTART:20170401T183000Z
DTEND:
LOCATION:
SUMMARY:SF Giants vs. Oakland A’s [Sold Out]
DESCRIPTION:SF Giants play the Oakland A's at the Coliseum. Includes FREE ticket to A's vs. Washington Nationals Friday eve, June 2. A bargain!
BEGIN:VALARM
TRIGGER:-PT15M
ACTION:DISPLAY
END:VALARM
TRANSP:OPAQUE
END:VEVENT
END:VCALENDAR
