BEGIN:VCALENDAR
VERSION:2.0
PRODID:-//OmniMagnetCalendar//EN
BEGIN:VEVENT
DTSTAMP:20190625T195740Z
STATUS:CONFIRMED
UID:hcsanfrancisco.clubs.harvard.edu1107
DTSTART:20170728T013000Z
DTEND:
LOCATION:
SUMMARY:SOLD OUT: The Future of Money
DESCRIPTION:This event is a chance to learn about digital currency and blockchain basics from two leaders in the field.
BEGIN:VALARM
TRIGGER:-PT15M
ACTION:DISPLAY
END:VALARM
TRANSP:OPAQUE
END:VEVENT
END:VCALENDAR
