BEGIN:VCALENDAR
VERSION:2.0
PRODID:-//OmniMagnetCalendar//EN
BEGIN:VEVENT
DTSTAMP:20190625T195740Z
STATUS:CONFIRMED
UID:hcsanfrancisco.clubs.harvard.edu1216
DTSTART:20180408T233000Z
DTEND:20180409T010000Z
LOCATION:San Francisco (location will be sent on Friday, April 6 to those who RSVP), San Francisco, CA,
SUMMARY:A Horse Walks into a Bar by David Grossman
DESCRIPTION:Harvard Club of San Francisco Reading Group
BEGIN:VALARM
TRIGGER:-PT15M
ACTION:DISPLAY
END:VALARM
TRANSP:OPAQUE
END:VEVENT
END:VCALENDAR
