BEGIN:VCALENDAR
VERSION:2.0
PRODID:-//OmniMagnetCalendar//EN
BEGIN:VEVENT
DTSTAMP:20190625T195740Z
STATUS:CONFIRMED
UID:hcsanfrancisco.clubs.harvard.edu1237
DTSTART:20180708T170000Z
DTEND:20180708T190000Z
LOCATION:Hicks Road and Mt.Umunhum Road Gate, 21631 Hicks Road, Los Gatos, CA,
SUMMARY:Mount Umunhum Hike for Harvard Alumni and Families (Sold out)
DESCRIPTION:A new Open Space destination offering a rich nature experience accessible to visitors of all abilities
BEGIN:VALARM
TRIGGER:-PT15M
ACTION:DISPLAY
END:VALARM
TRANSP:OPAQUE
END:VEVENT
END:VCALENDAR
