BEGIN:VCALENDAR
VERSION:2.0
PRODID:-//OmniMagnetCalendar//EN
BEGIN:VEVENT
DTSTAMP:20190625T195740Z
STATUS:CONFIRMED
UID:hcsanfrancisco.clubs.harvard.edu1307
DTSTART:20190308T193000Z
DTEND:20190308T220000Z
LOCATION:The University Club of San Francisco, 800 Powell Street, San Francisco, CA, 94108,
SUMMARY:The Harvard Lunch Bunch - SOLD OUT!
DESCRIPTION:Come join us for our third quarterly Harvard Lunch Bunch event. The last event sold out...don't wait to register!
BEGIN:VALARM
TRIGGER:-PT15M
ACTION:DISPLAY
END:VALARM
TRANSP:OPAQUE
END:VEVENT
END:VCALENDAR
