BEGIN:VCALENDAR
VERSION:2.0
PRODID:-//OmniMagnetCalendar//EN
BEGIN:VEVENT
DTSTAMP:20190625T195740Z
STATUS:CONFIRMED
UID:hcsanfrancisco.clubs.harvard.edu1339
DTSTART:20190602T233000Z
DTEND:20190603T010000Z
LOCATION:Location will be sent on Friday, May 31 to those who RSVP, San Francisco, CA,
SUMMARY:No god but God:  The Origins, Evolution, and Future of Islam by Reza Aslan
DESCRIPTION:Harvard Club of San Francisco Reading Group
BEGIN:VALARM
TRIGGER:-PT15M
ACTION:DISPLAY
END:VALARM
TRANSP:OPAQUE
END:VEVENT
END:VCALENDAR
