BEGIN:VCALENDAR
VERSION:2.0
PRODID:-//OmniMagnetCalendar//EN
BEGIN:VEVENT
DTSTAMP:20190625T195740Z
STATUS:CONFIRMED
UID:hcsanfrancisco.clubs.harvard.edu1445
DTSTART:20200307T024500Z
DTEND:20200307T054500Z
LOCATION:TableTop Tap House, 175 4th St, San Francisco, CA, 94103,
SUMMARY:The Way Back: Opening Night Dinner Party
DESCRIPTION:Come join fellow alumni for dinner, drinks, and games before we watch The Way Back, starring Ben Affleck, on the film’s opening night.
BEGIN:VALARM
TRIGGER:-PT15M
ACTION:DISPLAY
END:VALARM
TRANSP:OPAQUE
END:VEVENT
END:VCALENDAR
