BEGIN:VCALENDAR
VERSION:2.0
PRODID:-//OmniMagnetCalendar//EN
BEGIN:VEVENT
DTSTAMP:20190625T195740Z
STATUS:CONFIRMED
UID:hcsanfrancisco.clubs.harvard.edu1679
DTSTART:20211022T220000Z
DTEND:20211022T230000Z
LOCATION:de Young Museum, 50 Hagiwara Tea Garden Drive, San Francisco, CA, 94118,
SUMMARY:Judy Chicago: A Retrospective
DESCRIPTION:The Fine Arts Museums of San Francisco celebrate pioneering feminist artist Judy Chicago with a retrospective spanning from her early engagement with the Californian Light and Space Movement in the 1960s to her current body of work, a searing investigatio
BEGIN:VALARM
TRIGGER:-PT15M
ACTION:DISPLAY
END:VALARM
TRANSP:OPAQUE
END:VEVENT
END:VCALENDAR
