BEGIN:VCALENDAR
VERSION:2.0
PRODID:-//OmniMagnetCalendar//EN
BEGIN:VEVENT
DTSTAMP:20190625T195740Z
STATUS:CONFIRMED
UID:hcsanfrancisco.clubs.harvard.edu1726
DTSTART:20220319T230000Z
DTEND:20220320T000000Z
LOCATION:Virtual,
SUMMARY:Fractured Media In A Fractured Society - SOLD OUT
DESCRIPTION:Join us for a discussion of the failings of our media in maintaining its trust and credibility in our badly divided country, a talk by Robert M. Smith, author of his new book Suppressed—Confessions of a Former New York Times Washington Correspondent.
BEGIN:VALARM
TRIGGER:-PT15M
ACTION:DISPLAY
END:VALARM
TRANSP:OPAQUE
END:VEVENT
END:VCALENDAR
