BEGIN:VCALENDAR
VERSION:2.0
PRODID:-//OmniMagnetCalendar//EN
BEGIN:VEVENT
DTSTAMP:20190625T195740Z
STATUS:CONFIRMED
UID:hcsanfrancisco.clubs.harvard.edu1809
DTSTART:20220930T003000Z
DTEND:20220930T023000Z
LOCATION:Alchemist Bar & Lounge, 679 3rd St, San Francisco, CA, 94107,
SUMMARY:SOLD OUT! (waitlist activated) Welcome to Your City 2022: San Francisco
DESCRIPTION:Welcome Class of 2022! Please join us for a reception on September 29 with some food and beverages graciously provided by the Harvard Club of San Francisco.
BEGIN:VALARM
TRIGGER:-PT15M
ACTION:DISPLAY
END:VALARM
TRANSP:OPAQUE
END:VEVENT
END:VCALENDAR
