BEGIN:VCALENDAR
VERSION:2.0
PRODID:-//OmniMagnetCalendar//EN
BEGIN:VEVENT
DTSTAMP:20190625T195740Z
STATUS:CONFIRMED
UID:hcsanfrancisco.clubs.harvard.edu1829
DTSTART:20221119T170000Z
DTEND:20221119T200000Z
LOCATION:The San Francisco Athletic Club, 1750 Divisadero St, San Francisco, CA, 94115,
SUMMARY:2022 Harvard-Yale FOOTBALL Game Brunch and Viewing Party - sold out
DESCRIPTION:Join Harvard Club of San Francisco members to watch and celebrate The Game! SOLD OUT
BEGIN:VALARM
TRIGGER:-PT15M
ACTION:DISPLAY
END:VALARM
TRANSP:OPAQUE
END:VEVENT
END:VCALENDAR
