BEGIN:VCALENDAR
VERSION:2.0
PRODID:-//OmniMagnetCalendar//EN
BEGIN:VEVENT
DTSTAMP:20190625T195740Z
STATUS:CONFIRMED
UID:hcsanfrancisco.clubs.harvard.edu1867
DTSTART:20230224T013000Z
DTEND:20230224T033000Z
LOCATION:Rich Table, 199 Gough Street, San Francisco, CA, 94102,
SUMMARY:HCSF Neighborhood Dinner Club - SOLD OUT
DESCRIPTION:Please join us for the second HCSF neighborhood dinner club at Rich Table!
BEGIN:VALARM
TRIGGER:-PT15M
ACTION:DISPLAY
END:VALARM
TRANSP:OPAQUE
END:VEVENT
END:VCALENDAR
