BEGIN:VCALENDAR
VERSION:2.0
PRODID:-//OmniMagnetCalendar//EN
BEGIN:VEVENT
DTSTAMP:20190625T195740Z
STATUS:CONFIRMED
UID:hcsanfrancisco.clubs.harvard.edu2000
DTSTART:20240521T010000Z
DTEND:20240521T050000Z
LOCATION:San Francisco, CA,
SUMMARY:Harvard Club of San Francisco's 150th Anniversary Celebration - SOLD OUT
DESCRIPTION:Waitlist enabled. Featuring "Distinguished Citizen of the Year"  — SPEAKER EMERITA NANCY PELOSI, REPRESENTATIVE FOR CALIFORNIA’S 11TH CONGRESSIONAL DISTRICT
BEGIN:VALARM
TRIGGER:-PT15M
ACTION:DISPLAY
END:VALARM
TRANSP:OPAQUE
END:VEVENT
END:VCALENDAR
