BEGIN:VCALENDAR
VERSION:2.0
PRODID:-//OmniMagnetCalendar//EN
BEGIN:VEVENT
DTSTAMP:20190625T195740Z
STATUS:CONFIRMED
UID:hcsanfrancisco.clubs.harvard.edu2231
DTSTART:20260503T233000Z
DTEND:20260504T010000Z
LOCATION:Location with be sent to registrants two days before meeting, San Francisco, CA,
SUMMARY:Join the HCSF Reading Group to discuss Tokyo Express By Seicho Matsumoto
DESCRIPTION:In-Person Meeting
BEGIN:VALARM
TRIGGER:-PT15M
ACTION:DISPLAY
END:VALARM
TRANSP:OPAQUE
END:VEVENT
END:VCALENDAR
