BEGIN:VCALENDAR
VERSION:2.0
PRODID:-//OmniMagnetCalendar//EN
BEGIN:VEVENT
DTSTAMP:20190625T195740Z
STATUS:CONFIRMED
UID:hcsanfrancisco.clubs.harvard.edu2241
DTSTART:20260502T003000Z
DTEND:20260502T050000Z
LOCATION:SFFILM Festival Lounge, 1008 General Kennedy Ave, San Francisco, CA, 94129,
SUMMARY:An Evening of Exclusive Social Engagement, Cinema, Insight, and Festival Celebration - SOLD OUT
DESCRIPTION:An Elevated Signature Members Only Event
BEGIN:VALARM
TRIGGER:-PT15M
ACTION:DISPLAY
END:VALARM
TRANSP:OPAQUE
END:VEVENT
END:VCALENDAR
