BEGIN:VCALENDAR
VERSION:2.0
PRODID:-//OmniMagnetCalendar//EN
BEGIN:VEVENT
DTSTAMP:20190625T195740Z
STATUS:CONFIRMED
UID:hcsanfrancisco.clubs.harvard.edu1506
DTSTART:20200529T190000Z
DTEND:20200529T200000Z
LOCATION:Virtual, San Francisco, CA,
SUMMARY:Harvard Socrates Café - SOLD OUT
DESCRIPTION:Join us for an online open conversation on - What lies ahead for cities post-shutdown?
BEGIN:VALARM
TRIGGER:-PT15M
ACTION:DISPLAY
END:VALARM
TRANSP:OPAQUE
END:VEVENT
END:VCALENDAR
